Package: EpiTxDb Version: 1.18.0 Command: F:\biocbuild\bbs-3.20-bioc\R\bin\R.exe CMD INSTALL EpiTxDb StartedAt: 2025-02-03 16:42:27 -0500 (Mon, 03 Feb 2025) EndedAt: 2025-02-03 16:43:52 -0500 (Mon, 03 Feb 2025) EllapsedTime: 84.8 seconds RetCode: 0 Status: OK