Package: EpiTxDb Version: 1.18.0 Command: /home/biocbuild/R/R/bin/R CMD INSTALL EpiTxDb StartedAt: 2025-02-17 20:47:32 -0000 (Mon, 17 Feb 2025) EndedAt: 2025-02-17 20:48:25 -0000 (Mon, 17 Feb 2025) EllapsedTime: 53.4 seconds RetCode: 0 Status: OK