Package: EpipwR
Version: 1.0.0
Command: /home/biocbuild/R/R/bin/R CMD build --keep-empty-dirs --no-resave-data EpipwR
StartedAt: 2024-11-20 00:33:17 -0000 (Wed, 20 Nov 2024)
EndedAt: 2024-11-20 00:33:44 -0000 (Wed, 20 Nov 2024)
EllapsedTime: 27.0 seconds
RetCode: 0
Status: OK
PackageFile: EpipwR_1.0.0.tar.gz
PackageFileSize: 122.9 <A href="http://en.wikipedia.org/wiki/KiB" target="_blank">KiB</A>