Package: EpipwR Version: 1.0.0 Command: rm -rf EpipwR.buildbin-libdir && mkdir EpipwR.buildbin-libdir && /Users/biocbuild/BBS/utils/build-universal.sh EpipwR_1.0.0.tar.gz /Library/Frameworks/R.framework/Resources/bin/R EpipwR.buildbin-libdir StartedAt: 2025-02-04 12:54:09 -0500 (Tue, 04 Feb 2025) EndedAt: 2025-02-04 12:54:43 -0500 (Tue, 04 Feb 2025) EllapsedTime: 34.4 seconds RetCode: 0 Status: OK PackageFile: EpipwR_1.0.0.tgz PackageFileSize: 114.3 KiB