Package: EpipwR Version: 1.0.0 Command: /home/biocbuild/bbs-3.20-bioc/R/bin/R CMD check --install=check:EpipwR.install-out.txt --library=/home/biocbuild/bbs-3.20-bioc/R/site-library --timings EpipwR_1.0.0.tar.gz StartedAt: 2025-02-03 22:09:03 -0500 (Mon, 03 Feb 2025) EndedAt: 2025-02-03 22:11:30 -0500 (Mon, 03 Feb 2025) EllapsedTime: 146.1 seconds RetCode: 0 Status: OK CheckDir: EpipwR.Rcheck Warnings: 0