Package: EpipwR Version: 1.0.0 Command: /home/biocbuild/bbs-3.20-bioc/R/bin/R CMD INSTALL EpipwR StartedAt: 2025-02-03 15:26:21 -0500 (Mon, 03 Feb 2025) EndedAt: 2025-02-03 15:26:38 -0500 (Mon, 03 Feb 2025) EllapsedTime: 17.1 seconds RetCode: 0 Status: OK