Package: EpipwR Version: 1.0.0 Command: F:\biocbuild\bbs-3.20-bioc\R\bin\R.exe CMD check --no-multiarch --install=check:EpipwR.install-out.txt --library=F:\biocbuild\bbs-3.20-bioc\R\library --no-vignettes --timings EpipwR_1.0.0.tar.gz StartedAt: 2025-02-04 01:36:23 -0500 (Tue, 04 Feb 2025) EndedAt: 2025-02-04 01:40:45 -0500 (Tue, 04 Feb 2025) EllapsedTime: 261.5 seconds RetCode: 0 Status: OK CheckDir: EpipwR.Rcheck Warnings: 0