Package: ExiMiR Version: 2.48.0 Command: rm -rf ExiMiR.buildbin-libdir && mkdir ExiMiR.buildbin-libdir && /Users/biocbuild/BBS/utils/build-universal.sh ExiMiR_2.48.0.tar.gz /Library/Frameworks/R.framework/Resources/bin/R ExiMiR.buildbin-libdir StartedAt: 2025-01-31 12:47:07 -0500 (Fri, 31 Jan 2025) EndedAt: 2025-01-31 12:47:20 -0500 (Fri, 31 Jan 2025) EllapsedTime: 13.2 seconds RetCode: 0 Status: OK PackageFile: ExiMiR_2.48.0.tgz PackageFileSize: 1.352 MiB