Package: ExiMiR Version: 2.48.0 Command: /Library/Frameworks/R.framework/Resources/bin/R CMD INSTALL ExiMiR StartedAt: 2025-01-30 15:12:05 -0500 (Thu, 30 Jan 2025) EndedAt: 2025-01-30 15:12:29 -0500 (Thu, 30 Jan 2025) EllapsedTime: 24.4 seconds RetCode: 0 Status: OK