Package: ExiMiR Version: 2.48.0 Command: /home/biocbuild/bbs-3.20-bioc/R/bin/R CMD check --install=check:ExiMiR.install-out.txt --library=/home/biocbuild/bbs-3.20-bioc/R/site-library --timings ExiMiR_2.48.0.tar.gz StartedAt: 2025-01-30 22:07:55 -0500 (Thu, 30 Jan 2025) EndedAt: 2025-01-30 22:09:40 -0500 (Thu, 30 Jan 2025) EllapsedTime: 105.1 seconds RetCode: 0 Status: OK CheckDir: ExiMiR.Rcheck Warnings: 0