Package: ExiMiR Version: 2.48.0 Command: /home/biocbuild/bbs-3.20-bioc/R/bin/R CMD INSTALL ExiMiR StartedAt: 2025-01-30 15:07:43 -0500 (Thu, 30 Jan 2025) EndedAt: 2025-01-30 15:07:49 -0500 (Thu, 30 Jan 2025) EllapsedTime: 5.3 seconds RetCode: 0 Status: OK