Package: ExiMiR Version: 2.48.0 Command: chmod a+r ExiMiR -R && F:\biocbuild\bbs-3.20-bioc\R\bin\R.exe CMD build --keep-empty-dirs --no-resave-data ExiMiR StartedAt: 2025-01-30 18:47:20 -0500 (Thu, 30 Jan 2025) EndedAt: 2025-01-30 18:48:34 -0500 (Thu, 30 Jan 2025) EllapsedTime: 74.1 seconds RetCode: 0 Status: OK PackageFile: ExiMiR_2.48.0.tar.gz PackageFileSize: 1.22 MiB