Package: ExiMiR Version: 2.48.0 Command: F:\biocbuild\bbs-3.20-bioc\R\bin\R.exe CMD INSTALL ExiMiR StartedAt: 2025-01-30 15:26:52 -0500 (Thu, 30 Jan 2025) EndedAt: 2025-01-30 15:27:09 -0500 (Thu, 30 Jan 2025) EllapsedTime: 17.4 seconds RetCode: 0 Status: OK