Package: ExiMiR Version: 2.48.0 Command: /home/biocbuild/R/R/bin/R CMD check --install=check:ExiMiR.install-out.txt --library=/home/biocbuild/R/R/site-library --no-vignettes --timings ExiMiR_2.48.0.tar.gz StartedAt: 2025-01-31 06:10:44 -0000 (Fri, 31 Jan 2025) EndedAt: 2025-01-31 06:11:45 -0000 (Fri, 31 Jan 2025) EllapsedTime: 61.1 seconds RetCode: 0 Status: OK CheckDir: ExiMiR.Rcheck Warnings: 0