Package: ExperimentHubData Version: 1.32.0 Command: /Library/Frameworks/R.framework/Resources/bin/R CMD check --install=check:ExperimentHubData.install-out.txt --library=/Library/Frameworks/R.framework/Resources/library --no-vignettes --timings ExperimentHubData_1.32.0.tar.gz StartedAt: 2025-02-04 03:34:59 -0500 (Tue, 04 Feb 2025) EndedAt: 2025-02-04 03:45:03 -0500 (Tue, 04 Feb 2025) EllapsedTime: 603.8 seconds RetCode: 0 Status: WARNINGS CheckDir: ExperimentHubData.Rcheck Warnings: 1