Package: ExperimentHubData Version: 1.32.0 Command: /home/biocbuild/R/R/bin/R CMD INSTALL ExperimentHubData StartedAt: 2025-02-03 20:53:10 -0000 (Mon, 03 Feb 2025) EndedAt: 2025-02-03 20:54:01 -0000 (Mon, 03 Feb 2025) EllapsedTime: 51.4 seconds RetCode: 0 Status: OK