Package: ExperimentSubset Version: 1.16.0 Command: rm -rf ExperimentSubset.buildbin-libdir && mkdir ExperimentSubset.buildbin-libdir && /Users/biocbuild/BBS/utils/build-universal.sh ExperimentSubset_1.16.0.tar.gz /Library/Frameworks/R.framework/Resources/bin/R ExperimentSubset.buildbin-libdir StartedAt: 2025-02-05 15:49:15 -0500 (Wed, 05 Feb 2025) EndedAt: 2025-02-05 15:49:56 -0500 (Wed, 05 Feb 2025) EllapsedTime: 40.9 seconds RetCode: 0 Status: OK PackageFile: ExperimentSubset_1.16.0.tgz PackageFileSize: 703.7 KiB