Package: ExperimentSubset Version: 1.16.0 Command: /Library/Frameworks/R.framework/Resources/bin/R CMD build --keep-empty-dirs --no-resave-data ExperimentSubset StartedAt: 2025-02-03 23:27:58 -0500 (Mon, 03 Feb 2025) EndedAt: 2025-02-03 23:28:55 -0500 (Mon, 03 Feb 2025) EllapsedTime: 57.2 seconds RetCode: 0 Status: OK PackageFile: ExperimentSubset_1.16.0.tar.gz PackageFileSize: 307.4 KiB