Package: ExperimentSubset Version: 1.16.0 Command: /Library/Frameworks/R.framework/Resources/bin/R CMD check --install=check:ExperimentSubset.install-out.txt --library=/Library/Frameworks/R.framework/Resources/library --no-vignettes --timings ExperimentSubset_1.16.0.tar.gz StartedAt: 2025-02-04 19:34:55 -0500 (Tue, 04 Feb 2025) EndedAt: 2025-02-04 19:40:39 -0500 (Tue, 04 Feb 2025) EllapsedTime: 344.0 seconds RetCode: 0 Status: OK CheckDir: ExperimentSubset.Rcheck Warnings: 0