Package: ExperimentSubset
Version: 1.16.0
Command: /Library/Frameworks/R.framework/Resources/bin/R CMD build --keep-empty-dirs --no-resave-data ExperimentSubset
StartedAt: 2024-11-08 17:12:28 -0500 (Fri, 08 Nov 2024)
EndedAt: 2024-11-08 17:12:47 -0500 (Fri, 08 Nov 2024)
EllapsedTime: 18.2 seconds
RetCode: 0
Status: OK
PackageFile: ExperimentSubset_1.16.0.tar.gz
PackageFileSize: 307.4 <A href="http://en.wikipedia.org/wiki/KiB" target="_blank">KiB</A>