Package: ExperimentSubset Version: 1.16.0 Command: rm -rf ExperimentSubset.buildbin-libdir && mkdir ExperimentSubset.buildbin-libdir && /Users/biocbuild/BBS/utils/build-universal.sh ExperimentSubset_1.16.0.tar.gz /Library/Frameworks/R.framework/Resources/bin/R ExperimentSubset.buildbin-libdir StartedAt: 2025-02-04 12:55:49 -0500 (Tue, 04 Feb 2025) EndedAt: 2025-02-04 12:57:03 -0500 (Tue, 04 Feb 2025) EllapsedTime: 74.1 seconds RetCode: 0 Status: OK PackageFile: ExperimentSubset_1.16.0.tgz PackageFileSize: 703 KiB