Package: ExperimentSubset
Version: 1.16.0
Command: /home/biocbuild/bbs-3.20-bioc/R/bin/R CMD check --install=check:ExperimentSubset.install-out.txt --library=/home/biocbuild/bbs-3.20-bioc/R/site-library --timings ExperimentSubset_1.16.0.tar.gz
StartedAt: 2025-02-17 22:02:56 -0500 (Mon, 17 Feb 2025)
EndedAt: 2025-02-17 22:07:43 -0500 (Mon, 17 Feb 2025)
EllapsedTime: 287.4 seconds
RetCode: 0
Status: OK
CheckDir: ExperimentSubset.Rcheck
Warnings: 0