Package: ExploreModelMatrix Version: 1.18.0 Command: /home/biocbuild/bbs-3.20-bioc/R/bin/R CMD check --install=check:ExploreModelMatrix.install-out.txt --library=/home/biocbuild/bbs-3.20-bioc/R/site-library --timings ExploreModelMatrix_1.18.0.tar.gz StartedAt: 2025-02-03 22:18:50 -0500 (Mon, 03 Feb 2025) EndedAt: 2025-02-03 22:19:59 -0500 (Mon, 03 Feb 2025) EllapsedTime: 69.1 seconds RetCode: 0 Status: OK CheckDir: ExploreModelMatrix.Rcheck Warnings: 0