Package: ExploreModelMatrix Version: 1.18.0 Command: /home/biocbuild/bbs-3.20-bioc/R/bin/R CMD INSTALL ExploreModelMatrix StartedAt: 2025-02-03 15:40:54 -0500 (Mon, 03 Feb 2025) EndedAt: 2025-02-03 15:41:03 -0500 (Mon, 03 Feb 2025) EllapsedTime: 8.1 seconds RetCode: 0 Status: OK