Package: ExploreModelMatrix
Version: 1.18.0
Command: /home/biocbuild/bbs-3.20-bioc/R/bin/R CMD INSTALL ExploreModelMatrix
StartedAt: 2024-11-19 16:26:34 -0500 (Tue, 19 Nov 2024)
EndedAt: 2024-11-19 16:26:40 -0500 (Tue, 19 Nov 2024)
EllapsedTime: 6.2 seconds
RetCode: 0
Status: OK