Package: FEAST Version: 1.14.0 Command: /Library/Frameworks/R.framework/Resources/bin/R CMD build --keep-empty-dirs --no-resave-data FEAST StartedAt: 2025-02-03 18:55:26 -0500 (Mon, 03 Feb 2025) EndedAt: 2025-02-03 18:57:50 -0500 (Mon, 03 Feb 2025) EllapsedTime: 143.2 seconds RetCode: 0 Status: OK PackageFile: FEAST_1.14.0.tar.gz PackageFileSize: 3.456 MiB