Package: FEAST Version: 1.14.0 Command: /Library/Frameworks/R.framework/Resources/bin/R CMD check --install=check:FEAST.install-out.txt --library=/Library/Frameworks/R.framework/Resources/library --no-vignettes --timings FEAST_1.14.0.tar.gz StartedAt: 2025-02-04 03:41:24 -0500 (Tue, 04 Feb 2025) EndedAt: 2025-02-04 03:48:57 -0500 (Tue, 04 Feb 2025) EllapsedTime: 453.1 seconds RetCode: 0 Status: OK CheckDir: FEAST.Rcheck Warnings: 0