Package: FEAST Version: 1.14.0 Command: /Library/Frameworks/R.framework/Resources/bin/R CMD INSTALL FEAST StartedAt: 2025-02-03 16:03:44 -0500 (Mon, 03 Feb 2025) EndedAt: 2025-02-03 16:04:47 -0500 (Mon, 03 Feb 2025) EllapsedTime: 62.4 seconds RetCode: 0 Status: OK