Package: FEAST
Version: 1.13.0
Command: chmod a+r FEAST -R && F:\biocbuild\bbs-3.20-bioc\R\bin\R.exe CMD build --keep-empty-dirs --no-resave-data FEAST
StartedAt: 2024-06-09 18:56:51 -0400 (Sun, 09 Jun 2024)
EndedAt: 2024-06-09 18:58:37 -0400 (Sun, 09 Jun 2024)
EllapsedTime: 106.0 seconds
RetCode: 0
Status: OK
PackageFile: FEAST_1.13.0.tar.gz
PackageFileSize: 3.373 <A href="http://en.wikipedia.org/wiki/MiB" target="_blank">MiB</A>