Package: FEAST Version: 1.14.0 Command: chmod a+r FEAST -R && F:\biocbuild\bbs-3.20-bioc\R\bin\R.exe CMD build --keep-empty-dirs --no-resave-data FEAST StartedAt: 2025-02-03 19:07:40 -0500 (Mon, 03 Feb 2025) EndedAt: 2025-02-03 19:09:11 -0500 (Mon, 03 Feb 2025) EllapsedTime: 91.2 seconds RetCode: 0 Status: OK PackageFile: FEAST_1.14.0.tar.gz PackageFileSize: 3.373 MiB