Package: FEAST Version: 1.14.0 Command: /home/biocbuild/R/R/bin/R CMD build --keep-empty-dirs --no-resave-data FEAST StartedAt: 2025-02-03 23:34:58 -0000 (Mon, 03 Feb 2025) EndedAt: 2025-02-03 23:36:12 -0000 (Mon, 03 Feb 2025) EllapsedTime: 74.0 seconds RetCode: 0 Status: OK PackageFile: FEAST_1.14.0.tar.gz PackageFileSize: 3.464 MiB