Package: FEAST Version: 1.14.0 Command: /home/biocbuild/R/R/bin/R CMD INSTALL FEAST StartedAt: 2025-02-03 20:55:39 -0000 (Mon, 03 Feb 2025) EndedAt: 2025-02-03 20:56:15 -0000 (Mon, 03 Feb 2025) EllapsedTime: 35.9 seconds RetCode: 0 Status: OK