Package: FELLA Version: 1.26.0 Command: rm -rf FELLA.buildbin-libdir && mkdir FELLA.buildbin-libdir && /Users/biocbuild/BBS/utils/build-universal.sh FELLA_1.26.0.tar.gz /Library/Frameworks/R.framework/Resources/bin/R FELLA.buildbin-libdir StartedAt: 2025-02-05 15:50:50 -0500 (Wed, 05 Feb 2025) EndedAt: 2025-02-05 15:51:11 -0500 (Wed, 05 Feb 2025) EllapsedTime: 21.6 seconds RetCode: 0 Status: OK PackageFile: FELLA_1.26.0.tgz PackageFileSize: 3.947 MiB