Package: FELLA Version: 1.26.0 Command: /Library/Frameworks/R.framework/Resources/bin/R CMD build --keep-empty-dirs --no-resave-data FELLA StartedAt: 2025-02-03 23:33:07 -0500 (Mon, 03 Feb 2025) EndedAt: 2025-02-04 00:00:06 -0500 (Tue, 04 Feb 2025) EllapsedTime: 1618.8 seconds RetCode: 0 Status: OK PackageFile: FELLA_1.26.0.tar.gz PackageFileSize: 4.336 MiB