Package: FELLA Version: 1.26.0 Command: rm -rf FELLA.buildbin-libdir && mkdir FELLA.buildbin-libdir && /Users/biocbuild/BBS/utils/build-universal.sh FELLA_1.26.0.tar.gz /Library/Frameworks/R.framework/Resources/bin/R FELLA.buildbin-libdir StartedAt: 2025-02-04 12:56:36 -0500 (Tue, 04 Feb 2025) EndedAt: 2025-02-04 12:57:16 -0500 (Tue, 04 Feb 2025) EllapsedTime: 39.7 seconds RetCode: 0 Status: OK PackageFile: FELLA_1.26.0.tgz PackageFileSize: 3.928 MiB