Package: FELLA Version: 1.26.0 Command: F:\biocbuild\bbs-3.20-bioc\R\bin\R.exe CMD INSTALL FELLA StartedAt: 2025-02-03 15:52:55 -0500 (Mon, 03 Feb 2025) EndedAt: 2025-02-03 15:53:38 -0500 (Mon, 03 Feb 2025) EllapsedTime: 42.4 seconds RetCode: 0 Status: OK