Package: FELLA Version: 1.26.0 Command: /home/biocbuild/R/R/bin/R CMD build --keep-empty-dirs --no-resave-data FELLA StartedAt: 2025-02-03 23:35:15 -0000 (Mon, 03 Feb 2025) EndedAt: 2025-02-04 00:07:28 -0000 (Tue, 04 Feb 2025) EllapsedTime: 1932.8 seconds RetCode: 0 Status: OK PackageFile: FELLA_1.26.0.tar.gz PackageFileSize: 3.174 MiB