Package: FGNet Version: 3.40.0 Command: /Library/Frameworks/R.framework/Resources/bin/R CMD build --keep-empty-dirs --no-resave-data FGNet StartedAt: 2025-02-03 23:34:16 -0500 (Mon, 03 Feb 2025) EndedAt: 2025-02-03 23:34:41 -0500 (Mon, 03 Feb 2025) EllapsedTime: 25.1 seconds RetCode: 0 Status: OK PackageFile: FGNet_3.40.0.tar.gz PackageFileSize: 2.72 MiB