Package: FGNet Version: 3.40.0 Command: /Library/Frameworks/R.framework/Resources/bin/R CMD check --install=check:FGNet.install-out.txt --library=/Library/Frameworks/R.framework/Resources/library --no-vignettes --timings FGNet_3.40.0.tar.gz StartedAt: 2025-02-04 03:42:40 -0500 (Tue, 04 Feb 2025) EndedAt: 2025-02-04 03:45:05 -0500 (Tue, 04 Feb 2025) EllapsedTime: 145.5 seconds RetCode: 0 Status: WARNINGS CheckDir: FGNet.Rcheck Warnings: 1