Package: FGNet Version: 3.40.0 Command: /Library/Frameworks/R.framework/Resources/bin/R CMD INSTALL FGNet StartedAt: 2025-02-03 15:19:46 -0500 (Mon, 03 Feb 2025) EndedAt: 2025-02-03 15:20:16 -0500 (Mon, 03 Feb 2025) EllapsedTime: 29.2 seconds RetCode: 0 Status: OK