Package: FGNet Version: 3.40.0 Command: /home/biocbuild/bbs-3.20-bioc/R/bin/R CMD INSTALL FGNet StartedAt: 2025-02-03 15:18:32 -0500 (Mon, 03 Feb 2025) EndedAt: 2025-02-03 15:18:45 -0500 (Mon, 03 Feb 2025) EllapsedTime: 13.3 seconds RetCode: 0 Status: OK