Package: FGNet Version: 3.40.0 Command: chmod a+r FGNet -R && F:\biocbuild\bbs-3.20-bioc\R\bin\R.exe CMD build --keep-empty-dirs --no-resave-data FGNet StartedAt: 2025-02-03 19:08:26 -0500 (Mon, 03 Feb 2025) EndedAt: 2025-02-03 19:09:01 -0500 (Mon, 03 Feb 2025) EllapsedTime: 34.3 seconds RetCode: 0 Status: OK PackageFile: FGNet_3.40.0.tar.gz PackageFileSize: 2.72 MiB