Package: FGNet Version: 3.40.0 Command: /home/biocbuild/R/R/bin/R CMD check --install=check:FGNet.install-out.txt --library=/home/biocbuild/R/R/site-library --no-vignettes --timings FGNet_3.40.0.tar.gz StartedAt: 2025-02-04 07:01:04 -0000 (Tue, 04 Feb 2025) EndedAt: 2025-02-04 07:02:02 -0000 (Tue, 04 Feb 2025) EllapsedTime: 58.1 seconds RetCode: 0 Status: WARNINGS CheckDir: FGNet.Rcheck Warnings: 1