Package: FGNet
Version: 3.40.0
Command: /home/biocbuild/bbs-3.20-bioc/R/bin/R CMD INSTALL FGNet
StartedAt: 2024-11-19 15:42:10 -0500 (Tue, 19 Nov 2024)
EndedAt: 2024-11-19 15:42:15 -0500 (Tue, 19 Nov 2024)
EllapsedTime: 5.1 seconds
RetCode: 0
Status: OK