Package: FLAMES Version: 2.0.2 Command: /home/biocbuild/bbs-3.20-bioc/R/bin/R CMD check --install=check:FLAMES.install-out.txt --library=/home/biocbuild/bbs-3.20-bioc/R/site-library --timings FLAMES_2.0.2.tar.gz StartedAt: 2025-02-03 22:24:32 -0500 (Mon, 03 Feb 2025) EndedAt: 2025-02-03 22:35:33 -0500 (Mon, 03 Feb 2025) EllapsedTime: 661.8 seconds RetCode: 0 Status: OK CheckDir: FLAMES.Rcheck Warnings: 0