Package: FLAMES Version: 2.0.2 Command: /home/biocbuild/bbs-3.20-bioc/R/bin/R CMD INSTALL FLAMES StartedAt: 2025-02-03 16:01:54 -0500 (Mon, 03 Feb 2025) EndedAt: 2025-02-03 16:03:52 -0500 (Mon, 03 Feb 2025) EllapsedTime: 117.9 seconds RetCode: 0 Status: OK