Package: FLAMES Version: 2.0.2 Command: /home/biocbuild/R/R/bin/R CMD INSTALL FLAMES StartedAt: 2025-02-03 21:17:09 -0000 (Mon, 03 Feb 2025) EndedAt: 2025-02-03 21:19:33 -0000 (Mon, 03 Feb 2025) EllapsedTime: 144.2 seconds RetCode: 0 Status: OK