Package: FRASER Version: 2.2.0 Command: /Library/Frameworks/R.framework/Resources/bin/R CMD check --install=check:FRASER.install-out.txt --library=/Library/Frameworks/R.framework/Resources/library --no-vignettes --timings FRASER_2.2.0.tar.gz StartedAt: 2025-02-04 20:09:57 -0500 (Tue, 04 Feb 2025) EndedAt: 2025-02-04 20:26:54 -0500 (Tue, 04 Feb 2025) EllapsedTime: 1016.1 seconds RetCode: 0 Status: OK CheckDir: FRASER.Rcheck Warnings: 0