Package: FRASER Version: 2.2.0 Command: /Library/Frameworks/R.framework/Resources/bin/R CMD INSTALL FRASER StartedAt: 2025-02-03 17:43:10 -0500 (Mon, 03 Feb 2025) EndedAt: 2025-02-03 17:44:37 -0500 (Mon, 03 Feb 2025) EllapsedTime: 86.3 seconds RetCode: 0 Status: OK