Package: FamAgg Version: 1.34.0 Command: /home/biocbuild/bbs-3.20-bioc/R/bin/R CMD build --keep-empty-dirs --no-resave-data --md5 FamAgg StartedAt: 2025-02-03 17:24:11 -0500 (Mon, 03 Feb 2025) EndedAt: 2025-02-03 17:25:15 -0500 (Mon, 03 Feb 2025) EllapsedTime: 64.1 seconds RetCode: 0 Status: OK PackageFile: FamAgg_1.34.0.tar.gz PackageFileSize: 1.962 MiB